BEGIN:VCALENDAR
VERSION:2.0
PRODID:icalendar-ruby
CALSCALE:GREGORIAN
METHOD:PUBLISH
BEGIN:VEVENT
DTSTAMP:20260422T140807Z
UID:12-409900@somwc.org
DTSTART:20260426T200000Z
DTEND:20260426T230000Z
CLASS:PUBLIC
CREATED:20260421T133218
DESCRIPTION:God has a word — and it has your name on it. Join us as Pasto
 r Will delivers a message straight from the heart of God at New Jerusalem 
 House of Outpour. Come worship\, come receive\, and come experience His pr
 esence with your church family. \nSunday\, April 26th 3:00 PM 4807 Brasher
 \, Dallas\, TX 75210\n#TheWordIsAlive #PastorWill #NewJerusalemHouseOfOutp
 our
LAST-MODIFIED:20260421T133218
LOCATION:4807 Brasher\, Dallas\, TX 75210
SUMMARY:Assignment
URL;VALUE=URI:https://somwc.org/events/assignment/2026-04-26
ATTACH;FILENAME=New-Jerusalem.jpg;FMTTYPE=image/jpeg:https://dq5pwpg1q8ru0.
 cloudfront.net/2026/04/21/18/24/43/1f055ef1-ce72-4972-8c1f-556959f3b676/Ne
 w-Jerusalem.jpg
END:VEVENT
END:VCALENDAR
