BEGIN:VCALENDAR
VERSION:2.0
PRODID:icalendar-ruby
CALSCALE:GREGORIAN
METHOD:PUBLISH
BEGIN:VEVENT
DTSTAMP:20260422T141957Z
UID:13-409902@somwc.org
DTSTART:20260503T200000Z
DTEND:20260503T230000Z
CLASS:PUBLIC
CREATED:20260421T133410
DESCRIPTION:You’re Invited!\nJoin us as we celebrate ONE YEAR of anointed
  leadership with our beloved Pastor Will Togba!\nGod has done amazing thin
 gs through his faithfulness\, vision\, and love for this congregation — 
 and we want to celebrate together as a family!\n1st Year Pastoral Annivers
 ary Service\nSOMWC\nDate: May 3rd\nTime: 3PM\nLocation: 4409 Pioneer Rd\, 
 Balch Springs\, TX 75180\nCome ready to worship\, give thanks\, and show o
 ur appreciation for the man of God who has poured so much into our lives t
 his past year.\nAll are welcome — bring your family and friends!\nSee yo
 u there! — The SOMWC Family
LAST-MODIFIED:20260421T133410
LOCATION:4409 Pioneer Rd\, Balch Springs\, TX 75180
SUMMARY:1 Year Pastoral Anniversary
URL;VALUE=URI:https://somwc.org/events/1-year-pastoral-anniversary/2026-05-
 03
ATTACH;FILENAME=1-year.jpeg;FMTTYPE=image/jpeg:https://dq5pwpg1q8ru0.cloudf
 ront.net/2026/04/21/18/30/57/fd81f42b-bb87-4af8-a493-9324d937e943/1-year.j
 peg
END:VEVENT
END:VCALENDAR
